BEGIN:VCALENDAR
VERSION:2.0
PRODID:-//ΚΑΡΑΓΙΛΑΝΗΣ ΣΥΜΒΟΥΛΟΙ Α.Ε. - ECPv6.15.17//NONSGML v1.0//EN
CALSCALE:GREGORIAN
METHOD:PUBLISH
X-WR-CALNAME:ΚΑΡΑΓΙΛΑΝΗΣ ΣΥΜΒΟΥΛΟΙ Α.Ε.
X-ORIGINAL-URL:https://karagilanis.gr
X-WR-CALDESC:Events for ΚΑΡΑΓΙΛΑΝΗΣ ΣΥΜΒΟΥΛΟΙ Α.Ε.
REFRESH-INTERVAL;VALUE=DURATION:PT1H
X-Robots-Tag:noindex
X-PUBLISHED-TTL:PT1H
BEGIN:VTIMEZONE
TZID:Europe/Helsinki
BEGIN:DAYLIGHT
TZOFFSETFROM:+0200
TZOFFSETTO:+0300
TZNAME:EEST
DTSTART:20240331T010000
END:DAYLIGHT
BEGIN:STANDARD
TZOFFSETFROM:+0300
TZOFFSETTO:+0200
TZNAME:EET
DTSTART:20241027T010000
END:STANDARD
BEGIN:DAYLIGHT
TZOFFSETFROM:+0200
TZOFFSETTO:+0300
TZNAME:EEST
DTSTART:20250330T010000
END:DAYLIGHT
BEGIN:STANDARD
TZOFFSETFROM:+0300
TZOFFSETTO:+0200
TZNAME:EET
DTSTART:20251026T010000
END:STANDARD
BEGIN:DAYLIGHT
TZOFFSETFROM:+0200
TZOFFSETTO:+0300
TZNAME:EEST
DTSTART:20260329T010000
END:DAYLIGHT
BEGIN:STANDARD
TZOFFSETFROM:+0300
TZOFFSETTO:+0200
TZNAME:EET
DTSTART:20261025T010000
END:STANDARD
END:VTIMEZONE
BEGIN:VEVENT
DTSTART;VALUE=DATE:20250408
DTEND;VALUE=DATE:20250409
DTSTAMP:20260421T172639
CREATED:20250401T120030Z
LAST-MODIFIED:20250401T120030Z
UID:101746-1744070400-1744156799@karagilanis.gr
SUMMARY:Υποβολή ελέγχων και διορθώσεων στοιχείων
DESCRIPTION:Οι ΟΤΑ καταχωρούν διορθωμένα στοιχεία από ελέγχους του Υπουργείου ή των Μονάδων Εσωτερικού Ελέγχου στην πλατφόρμα deiktesota.gov.gr\, όπως ορίζει το άρθρο 33 του ν. 5056/2023 (όπως τροποποιήθηκε με το άρθρο 41 του ν. 5143/2024) και η απόφαση 85277/23.12.2024 (ΦΕΚ 7203/30.12.2024).
URL:https://karagilanis.gr/event/ypovoli-elegchon-kai-diorthoseon-stoicheion/
CATEGORIES:Προσωπικού
END:VEVENT
END:VCALENDAR