BEGIN:VCALENDAR
VERSION:2.0
PRODID:-//ΚΑΡΑΓΙΛΑΝΗΣ ΣΥΜΒΟΥΛΟΙ Α.Ε. - ECPv6.15.17//NONSGML v1.0//EN
CALSCALE:GREGORIAN
METHOD:PUBLISH
X-ORIGINAL-URL:https://karagilanis.gr
X-WR-CALDESC:Events for ΚΑΡΑΓΙΛΑΝΗΣ ΣΥΜΒΟΥΛΟΙ Α.Ε.
REFRESH-INTERVAL;VALUE=DURATION:PT1H
X-Robots-Tag:noindex
X-PUBLISHED-TTL:PT1H
BEGIN:VTIMEZONE
TZID:Europe/Helsinki
BEGIN:DAYLIGHT
TZOFFSETFROM:+0200
TZOFFSETTO:+0300
TZNAME:EEST
DTSTART:20240331T010000
END:DAYLIGHT
BEGIN:STANDARD
TZOFFSETFROM:+0300
TZOFFSETTO:+0200
TZNAME:EET
DTSTART:20241027T010000
END:STANDARD
BEGIN:DAYLIGHT
TZOFFSETFROM:+0200
TZOFFSETTO:+0300
TZNAME:EEST
DTSTART:20250330T010000
END:DAYLIGHT
BEGIN:STANDARD
TZOFFSETFROM:+0300
TZOFFSETTO:+0200
TZNAME:EET
DTSTART:20251026T010000
END:STANDARD
BEGIN:DAYLIGHT
TZOFFSETFROM:+0200
TZOFFSETTO:+0300
TZNAME:EEST
DTSTART:20260329T010000
END:DAYLIGHT
BEGIN:STANDARD
TZOFFSETFROM:+0300
TZOFFSETTO:+0200
TZNAME:EET
DTSTART:20261025T010000
END:STANDARD
END:VTIMEZONE
BEGIN:VEVENT
DTSTART;VALUE=DATE:20250507
DTEND;VALUE=DATE:20250508
DTSTAMP:20260421T184530
CREATED:20250502T122310Z
LAST-MODIFIED:20250502T122310Z
UID:102548-1746576000-1746662399@karagilanis.gr
SUMMARY:Αποστολή ηλεκτρονικού αρχείου αναλυτικής μισθοδοτικής κατάστασης στην ΕΑΠ και συγκεντρωτικών καταστάσεων μισθοδοσίας στην 24η Διεύθυνση Λογαριασμών του Δημοσίου του Γ.Λ.Κ. για δεδουλευμένες αμοιβές Απριλίου.  (για προσωπικό αορίστου και ορισμένου χρόνου).
DESCRIPTION:Σύμφωνα με την υπ' αριθμ. 2000285/19.11.2010 εγκύκλιο του Υπουργείου Οικονομικών ο φορέας οφείλει να στείλει το ηλεκτρονικό αρχείο στην ΕΑΠ και τις υπογεγραμμένες συγκεντρωτικές καταστάσεις μισθοδοσίας στη Δ24 όχι νωρίτερα από την 1η του επόμενου μήνα της μισθολογικής περιόδου και όχι αργότερα από την 5η ημέρα ή την προηγούμενη εργάσιμη.
URL:https://karagilanis.gr/event/apostoli-ilektronikou-archeiou-analytikis-misthodotikis-katastasis-stin-eap-kai-sygkentrotikon-katastaseon-misthodosias-stin-24i-diefthynsi-logariasmon-tou-dimosiou-tou-g-l-k-gia-dedoulevme-10/
CATEGORIES:Προσωπικού
END:VEVENT
BEGIN:VEVENT
DTSTART;VALUE=DATE:20250507
DTEND;VALUE=DATE:20250508
DTSTAMP:20260421T184530
CREATED:20250502T122744Z
LAST-MODIFIED:20250502T122744Z
UID:102550-1746576000-1746662399@karagilanis.gr
SUMMARY:Αποστολή ηλεκτρονικού αρχείου εξόφλησης-εκκαθάρισης δεδουλευμένων αμοιβών Απριλίου στην ΕΑΠ για το Β’ δεκαπενθήμερο Απριλίου. (για μόνιμο προσωπικό).
DESCRIPTION:Σύμφωνα με την υπ' αριθμ. 2000285/19.11.2010 εγκύκλιο του Υπουργείου Οικονομικών ο φορέας οφείλει να στείλει το ηλεκτρονικό αρχείο εξόφλησης δεδουλευμένων αμοιβών για το Β΄Δεκαπενθήμερο του προηγούμενου μήνα\, προς την ΕΑΠ\, όχι νωρίτερα από την 1η του επόμενου μήνα της μισθολογικής περιόδου και όχι αργότερα από την 5η ημέρα ή την προηγούμενη εργάσιμη.
URL:https://karagilanis.gr/event/apostoli-ilektronikou-archeiou-exoflisis-ekkatharisis-dedoulevmenon-amoivon-apriliou-stin-eap-gia-to-v-dekapenthimero-apriliou-gia-monimo-prosopiko/
CATEGORIES:Προσωπικού
END:VEVENT
BEGIN:VEVENT
DTSTART;VALUE=DATE:20250507
DTEND;VALUE=DATE:20250508
DTSTAMP:20260421T184530
CREATED:20250502T122921Z
LAST-MODIFIED:20250502T122921Z
UID:102552-1746576000-1746662399@karagilanis.gr
SUMMARY:Αποστολή πίνακα σε μορφή excel στο Υπουργείο Διοικ. Ανασυγκρότησης με τα ονόματα τυχόν πρώην υπαλλήλων του φορέα οι οποίοι ετέθησαν σε διαθεσιμότητα και επανήλθαν στην υπηρεσία μετά την έκδοση προσωρινών διαταγών ή αποφάσεων διαδικασίας ασφαλιστικών μέτρων.
DESCRIPTION:Σύμφωνα με την αριθμ. πρωτ: ΔΙΠΙΔ/Β2.Δ/219/οικ.11967/12.05.2014 εγκύκλιο του Υπουργείου Διοικητικής Μεταρρύθμισης με θέμα "Παροχή στοιχείων"\, οι φορείς οφείλουν να αποστέλουν το Α΄δεκαήμερο κάθε μήνα πίνακα με τα στοιχεία του προσωπικού τους που έχει τεθεί σε διαθεσιμότητα και το οποίο επανέρχεται στην Υπηρεσία μετά από έκδοση προσωρινών διαταγών ή αποφάσεων με τη διαδικασία των ασφαλιστικών μέτρων.
URL:https://karagilanis.gr/event/apostoli-pinaka-se-morfi-excel-sto-ypourgeio-dioik-anasygkrotisis-me-ta-onomata-tychon-proin-ypallilon-tou-forea-oi-opoioi-etethisan-se-diathesimotita-kai-epanilthan-stin-ypiresia-meta-tin-ekdosi-p-10/
CATEGORIES:Προσωπικού
END:VEVENT
END:VCALENDAR